BEGIN:VCALENDAR
PRODID:-//eluceo/ical//2.0/EN
VERSION:2.0
CALSCALE:GREGORIAN
BEGIN:VEVENT
UID:bc1ae2f42e3c79208b0ef64f4dd5fea2
DTSTAMP:20260421T205132Z
SUMMARY:Yom Yerushalayim
DESCRIPTION:Jewish Federation of Central Massachusetts\nCalendar\nhttps://j
 ewishcentralmass.org/calendar/cal226\n\nJFCM
DTSTART;TZID=America/New_York:20150517T000000
DTEND;TZID=America/New_York:20150517T235900
END:VEVENT
END:VCALENDAR
