BEGIN:VCALENDAR
PRODID:-//eluceo/ical//2.0/EN
VERSION:2.0
CALSCALE:GREGORIAN
BEGIN:VEVENT
UID:c5deba29832e5e7ae5ca3812c1d3efd4
DTSTAMP:20260423T055419Z
SUMMARY:Mother's Day
DESCRIPTION:Jewish Federation of Central Massachusetts\nCalendar\nhttps://j
 ewishcentralmass.org/calendar/cal225\n\nJFCM
DTSTART;TZID=America/New_York:20150510T000000
DTEND;TZID=America/New_York:20150510T235900
END:VEVENT
END:VCALENDAR
