BEGIN:VCALENDAR
PRODID:-//eluceo/ical//2.0/EN
VERSION:2.0
CALSCALE:GREGORIAN
BEGIN:VEVENT
UID:fc149a97fe22f7eac5827392f83f6133
DTSTAMP:20260422T021202Z
SUMMARY:Lag Ba'Omer
DESCRIPTION:Jewish Federation of Central Massachusetts\nCalendar\nhttps://j
 ewishcentralmass.org/calendar/cal224\n\nJFCM
DTSTART;TZID=America/New_York:20150507T000000
DTEND;TZID=America/New_York:20150507T235900
END:VEVENT
END:VCALENDAR
