BEGIN:VCALENDAR
PRODID:-//eluceo/ical//2.0/EN
VERSION:2.0
CALSCALE:GREGORIAN
BEGIN:VEVENT
UID:6af8390090275f147cc3be36042180a8
DTSTAMP:20260423T111942Z
SUMMARY:Yom Hazikaron
DESCRIPTION:Jewish Federation of Central Massachusetts\nCalendar\nhttps://j
 ewishcentralmass.org/calendar/cal222\n\nJFCM
DTSTART;TZID=America/New_York:20150422T000000
DTEND;TZID=America/New_York:20150422T235900
END:VEVENT
END:VCALENDAR
