BEGIN:VCALENDAR
PRODID:-//eluceo/ical//2.0/EN
VERSION:2.0
CALSCALE:GREGORIAN
BEGIN:VEVENT
UID:c11c109a0def87c078b198f15ba98c33
DTSTAMP:20260423T231652Z
SUMMARY:Passover
DESCRIPTION:Jewish Federation of Central Massachusetts\nCalendar\nhttps://j
 ewishcentralmass.org/calendar/cal220\n\nJFCM
DTSTART;TZID=America/New_York:20150404T000000
DTEND;TZID=America/New_York:20150411T235900
END:VEVENT
END:VCALENDAR
