BEGIN:VCALENDAR
PRODID:-//eluceo/ical//2.0/EN
VERSION:2.0
CALSCALE:GREGORIAN
BEGIN:VEVENT
UID:e9b2e74137d3ccf002c43f82b6dde9b3
DTSTAMP:20260422T234332Z
SUMMARY:First Seder
DESCRIPTION:Jewish Federation of Central Massachusetts\nCalendar\nhttps://j
 ewishcentralmass.org/calendar/cal219\n\nJFCM
DTSTART;TZID=America/New_York:20150403T190000
DTEND;TZID=America/New_York:20150403T235900
END:VEVENT
END:VCALENDAR
