BEGIN:VCALENDAR
PRODID:-//eluceo/ical//2.0/EN
VERSION:2.0
CALSCALE:GREGORIAN
BEGIN:VEVENT
UID:7c3c6636da06c2bec23a2ec3c77a2328
DTSTAMP:20260423T171452Z
SUMMARY:Purim
DESCRIPTION:Jewish Federation of Central Massachusetts\nCalendar\nhttps://j
 ewishcentralmass.org/calendar/cal218\n\nJFCM
DTSTART;TZID=America/New_York:20150305T000000
DTEND;TZID=America/New_York:20150305T235900
END:VEVENT
END:VCALENDAR
