BEGIN:VCALENDAR
PRODID:-//eluceo/ical//2.0/EN
VERSION:2.0
CALSCALE:GREGORIAN
BEGIN:VEVENT
UID:e660072ac2da4a92eeaceefae7eb815f
DTSTAMP:20260423T031056Z
SUMMARY:Presidents Day
DESCRIPTION:Jewish Federation of Central Massachusetts\nCalendar\nhttps://j
 ewishcentralmass.org/calendar/cal216\n\nJFCM
DTSTART;TZID=America/New_York:20150216T000000
DTEND;TZID=America/New_York:20150216T235900
END:VEVENT
END:VCALENDAR
