BEGIN:VCALENDAR
PRODID:-//eluceo/ical//2.0/EN
VERSION:2.0
CALSCALE:GREGORIAN
BEGIN:VEVENT
UID:36313a3f913a11496a1b14a6fe3f2f10
DTSTAMP:20260422T232914Z
SUMMARY:Tu B'Shevat
DESCRIPTION:Jewish Federation of Central Massachusetts\nCalendar\nhttps://j
 ewishcentralmass.org/calendar/cal215\n\nJFCM
DTSTART;TZID=America/New_York:20150204T000000
DTEND;TZID=America/New_York:20150204T235900
END:VEVENT
END:VCALENDAR
