BEGIN:VCALENDAR
PRODID:-//eluceo/ical//2.0/EN
VERSION:2.0
CALSCALE:GREGORIAN
BEGIN:VEVENT
UID:b683a169521587113d8cda19011a2080
DTSTAMP:20260424T063905Z
SUMMARY:Martin Luther King Day
DESCRIPTION:Jewish Federation of Central Massachusetts\nCalendar\nhttps://j
 ewishcentralmass.org/calendar/cal214\n\nJFCM
DTSTART;TZID=America/New_York:20150119T000000
DTEND;TZID=America/New_York:20150119T235900
END:VEVENT
END:VCALENDAR
