BEGIN:VCALENDAR
PRODID:-//eluceo/ical//2.0/EN
VERSION:2.0
CALSCALE:GREGORIAN
BEGIN:VEVENT
UID:29484629c41156bd516168e8df288142
DTSTAMP:20260420T180725Z
SUMMARY:New Years
DESCRIPTION:Jewish Federation of Central Massachusetts\nCalendar\nhttps://j
 ewishcentralmass.org/calendar/cal213\n\nJFCM
DTSTART;TZID=America/New_York:20150101T000000
DTEND;TZID=America/New_York:20150101T235900
END:VEVENT
END:VCALENDAR
