BEGIN:VCALENDAR
PRODID:-//eluceo/ical//2.0/EN
VERSION:2.0
CALSCALE:GREGORIAN
BEGIN:VEVENT
UID:3fd7f6751d828660c9af63280528e5e2
DTSTAMP:20260422T175300Z
SUMMARY:Hanukkah
DESCRIPTION:Jewish Federation of Central Massachusetts\nCalendar\nhttps://j
 ewishcentralmass.org/calendar/cal212\n\nJFCM
DTSTART;TZID=America/New_York:20141217T000000
DTEND;TZID=America/New_York:20141224T235900
END:VEVENT
END:VCALENDAR
