BEGIN:VCALENDAR
PRODID:-//eluceo/ical//2.0/EN
VERSION:2.0
CALSCALE:GREGORIAN
BEGIN:VEVENT
UID:25674a645d0da1a9d4f05c0af4717d20
DTSTAMP:20260422T104939Z
SUMMARY:Erev Hanukkah
DESCRIPTION:Jewish Federation of Central Massachusetts\nCalendar\nhttps://j
 ewishcentralmass.org/calendar/cal211\n\nJFCM
DTSTART;TZID=America/New_York:20141216T160000
DTEND;TZID=America/New_York:20141216T235900
END:VEVENT
END:VCALENDAR
