BEGIN:VCALENDAR
PRODID:-//eluceo/ical//2.0/EN
VERSION:2.0
CALSCALE:GREGORIAN
BEGIN:VEVENT
UID:f782f889f6e5bcddabb893c96230571a
DTSTAMP:20260422T060113Z
SUMMARY:Thanksgiving
DESCRIPTION:Jewish Federation of Central Massachusetts\nCalendar\nhttps://j
 ewishcentralmass.org/calendar/cal210\n\nJFCM
DTSTART;TZID=America/New_York:20141127T000000
DTEND;TZID=America/New_York:20141127T235900
END:VEVENT
END:VCALENDAR
