BEGIN:VCALENDAR
PRODID:-//eluceo/ical//2.0/EN
VERSION:2.0
CALSCALE:GREGORIAN
BEGIN:VEVENT
UID:e679ea6d4579347e47b82b0fa50e1f8e
DTSTAMP:20260423T031623Z
SUMMARY:Congregation Beth Israel Sukkot Decorating
DESCRIPTION:Jewish Federation of Central Massachusetts\nCalendar\nhttps://j
 ewishcentralmass.org/calendar/cal21\n\nCongregation Beth Israel Sukkot Dec
 orating
DTSTART;TZID=America/New_York:20141005T120000
DTEND;TZID=America/New_York:20141005T140000
END:VEVENT
END:VCALENDAR
