BEGIN:VCALENDAR
PRODID:-//eluceo/ical//2.0/EN
VERSION:2.0
CALSCALE:GREGORIAN
BEGIN:VEVENT
UID:04886bf7db4ced601fad68fbe660dac8
DTSTAMP:20260422T220554Z
SUMMARY:Veterans Day
DESCRIPTION:Jewish Federation of Central Massachusetts\nCalendar\nhttps://j
 ewishcentralmass.org/calendar/cal209\n\nJFCM
DTSTART;TZID=America/New_York:20141111T000000
DTEND;TZID=America/New_York:20141111T235900
END:VEVENT
END:VCALENDAR
