BEGIN:VCALENDAR
PRODID:-//eluceo/ical//2.0/EN
VERSION:2.0
CALSCALE:GREGORIAN
BEGIN:VEVENT
UID:147234ffc8aa77db05f8899a0122c084
DTSTAMP:20260423T031046Z
SUMMARY:Election Day
DESCRIPTION:Jewish Federation of Central Massachusetts\nCalendar\nhttps://j
 ewishcentralmass.org/calendar/cal208\n\nJFCM
DTSTART;TZID=America/New_York:20141104T000000
DTEND;TZID=America/New_York:20141104T235900
END:VEVENT
END:VCALENDAR
