BEGIN:VCALENDAR
PRODID:-//eluceo/ical//2.0/EN
VERSION:2.0
CALSCALE:GREGORIAN
BEGIN:VEVENT
UID:6953633d415caf65154f3e7dfb26eade
DTSTAMP:20260421T202630Z
SUMMARY:Simchat Torah
DESCRIPTION:Jewish Federation of Central Massachusetts\nCalendar\nhttps://j
 ewishcentralmass.org/calendar/cal207\n\nJFCM
DTSTART;TZID=America/New_York:20141017T000000
DTEND;TZID=America/New_York:20141017T235900
END:VEVENT
END:VCALENDAR
