BEGIN:VCALENDAR
PRODID:-//eluceo/ical//2.0/EN
VERSION:2.0
CALSCALE:GREGORIAN
BEGIN:VEVENT
UID:325bc0bcc30c5d5c9085a5972dad8d68
DTSTAMP:20260423T032104Z
SUMMARY:Shemini Atzeret
DESCRIPTION:Jewish Federation of Central Massachusetts\nCalendar\nhttps://j
 ewishcentralmass.org/calendar/cal206\n\nJFCM
DTSTART;TZID=America/New_York:20141016T000000
DTEND;TZID=America/New_York:20141016T235900
END:VEVENT
END:VCALENDAR
