BEGIN:VCALENDAR
PRODID:-//eluceo/ical//2.0/EN
VERSION:2.0
CALSCALE:GREGORIAN
BEGIN:VEVENT
UID:1c3c547d10e1a0c0c6a5aebe72e53f51
DTSTAMP:20260421T182718Z
SUMMARY:Sukkot
DESCRIPTION:Jewish Federation of Central Massachusetts\nCalendar\nhttps://j
 ewishcentralmass.org/calendar/cal205\n\nJFCM
DTSTART;TZID=America/New_York:20141009T000000
DTEND;TZID=America/New_York:20141010T235900
END:VEVENT
END:VCALENDAR
