BEGIN:VCALENDAR
PRODID:-//eluceo/ical//2.0/EN
VERSION:2.0
CALSCALE:GREGORIAN
BEGIN:VEVENT
UID:4e8667e13f9cb698dd1aa9f2c1ae5e0a
DTSTAMP:20260423T180450Z
SUMMARY:Rosh Hashanah
DESCRIPTION:Jewish Federation of Central Massachusetts\nCalendar\nhttps://j
 ewishcentralmass.org/calendar/cal202\n\nJFCM
DTSTART;TZID=America/New_York:20140925T000000
DTEND;TZID=America/New_York:20140926T200000
END:VEVENT
END:VCALENDAR
