BEGIN:VCALENDAR
PRODID:-//eluceo/ical//2.0/EN
VERSION:2.0
CALSCALE:GREGORIAN
BEGIN:VEVENT
UID:e4d8ac0be69fddd22255f75026e06653
DTSTAMP:20260423T194002Z
SUMMARY:Erev Rosh Hashanah
DESCRIPTION:Jewish Federation of Central Massachusetts\nCalendar\nhttps://j
 ewishcentralmass.org/calendar/cal201\n\nJFCM
DTSTART;TZID=America/New_York:20140924T180000
DTEND;TZID=America/New_York:20140924T235900
END:VEVENT
END:VCALENDAR
