BEGIN:VCALENDAR
PRODID:-//eluceo/ical//2.0/EN
VERSION:2.0
CALSCALE:GREGORIAN
BEGIN:VEVENT
UID:9441a30f08dc2af5bb5159134543bba8
DTSTAMP:20260424T060221Z
SUMMARY:Jewish Healthcare Center Auxillary Lunch
DESCRIPTION:Jewish Federation of Central Massachusetts\nCalendar\nhttps://j
 ewishcentralmass.org/calendar/cal2\n\nJewish Healthcare Center Auxillary L
 unch
DTSTART;TZID=America/New_York:20140907T110000
DTEND;TZID=America/New_York:20140907T130000
END:VEVENT
END:VCALENDAR
