BEGIN:VCALENDAR
PRODID:-//eluceo/ical//2.0/EN
VERSION:2.0
CALSCALE:GREGORIAN
BEGIN:VEVENT
UID:d42da46aa8e2042a53787965511cd814
DTSTAMP:20260421T060909Z
SUMMARY:Jewish Healthcare Center Motorcycle Ride
DESCRIPTION:Jewish Federation of Central Massachusetts\nCalendar\nhttps://j
 ewishcentralmass.org/calendar/cal175\n\nJewish Healthcare Center Motorcycl
 e Ride
DTSTART;TZID=America/New_York:20150628T093000
DTEND;TZID=America/New_York:20150628T150000
END:VEVENT
END:VCALENDAR
