BEGIN:VCALENDAR
PRODID:-//eluceo/ical//2.0/EN
VERSION:2.0
CALSCALE:GREGORIAN
BEGIN:VEVENT
UID:497365936a3eafbd720f63905fa31992
DTSTAMP:20260423T115536Z
SUMMARY:Jewish Community Center Annual Meeting
DESCRIPTION:Jewish Federation of Central Massachusetts\nCalendar\nhttps://j
 ewishcentralmass.org/calendar/cal172\n\nJewish Community Center Annual Mee
 ting
DTSTART;TZID=America/New_York:20150618T180000
DTEND;TZID=America/New_York:20150618T200000
END:VEVENT
END:VCALENDAR
