BEGIN:VCALENDAR
PRODID:-//eluceo/ical//2.0/EN
VERSION:2.0
CALSCALE:GREGORIAN
BEGIN:VEVENT
UID:a000418d1cb06de12250817e4df11bbf
DTSTAMP:20260422T021152Z
SUMMARY:Jewish Healthcare Center Annual Meeting
DESCRIPTION:Jewish Federation of Central Massachusetts\nCalendar\nhttps://j
 ewishcentralmass.org/calendar/cal171\n\nJewish Healthcare Center Annual Me
 eting
DTSTART;TZID=America/New_York:20150617T180000
DTEND;TZID=America/New_York:20150617T200000
END:VEVENT
END:VCALENDAR
