BEGIN:VCALENDAR
PRODID:-//eluceo/ical//2.0/EN
VERSION:2.0
CALSCALE:GREGORIAN
BEGIN:VEVENT
UID:8371c1c6c8c7ba3dfd80024c7bb273e9
DTSTAMP:20260424T044647Z
SUMMARY:Temple Emanuel Sinai Annual Meeting
DESCRIPTION:Jewish Federation of Central Massachusetts\nCalendar\nhttps://j
 ewishcentralmass.org/calendar/cal169\n\nTemple Emanuel Sinai Annual Meetin
 g
DTSTART;TZID=America/New_York:20150614T100000
DTEND;TZID=America/New_York:20150614T120000
END:VEVENT
END:VCALENDAR
