BEGIN:VCALENDAR
PRODID:-//eluceo/ical//2.0/EN
VERSION:2.0
CALSCALE:GREGORIAN
BEGIN:VEVENT
UID:00870e9d88796a5750728c794af20e61
DTSTAMP:20260422T150632Z
SUMMARY:Temple Emanuel Sinai Board Meeting
DESCRIPTION:Jewish Federation of Central Massachusetts\nCalendar\nhttps://j
 ewishcentralmass.org/calendar/cal167\n\nTemple Emanuel Sinai Board Meeting
DTSTART;TZID=America/New_York:20150608T193000
DTEND;TZID=America/New_York:20150608T210000
END:VEVENT
END:VCALENDAR
