BEGIN:VCALENDAR
PRODID:-//eluceo/ical//2.0/EN
VERSION:2.0
CALSCALE:GREGORIAN
BEGIN:VEVENT
UID:92f11f0b48abcdab8b82e0ddb3e353e4
DTSTAMP:20260424T063514Z
SUMMARY:Congregation B'nai Shalom Board Meeting
DESCRIPTION:Jewish Federation of Central Massachusetts\nCalendar\nhttps://j
 ewishcentralmass.org/calendar/cal166\n\nCongregation B'nai Shalom Board Me
 eting
DTSTART;TZID=America/New_York:20150603T193000
DTEND;TZID=America/New_York:20150603T210000
END:VEVENT
END:VCALENDAR
