BEGIN:VCALENDAR
PRODID:-//eluceo/ical//2.0/EN
VERSION:2.0
CALSCALE:GREGORIAN
BEGIN:VEVENT
UID:05c6ec989b8a4c08e0711f978b389d1a
DTSTAMP:20260424T025720Z
SUMMARY:Beth Tikvah Annual Meeting
DESCRIPTION:Jewish Federation of Central Massachusetts\nCalendar\nhttps://j
 ewishcentralmass.org/calendar/cal163\n\nBeth Tikvah Annual Meeting
DTSTART;TZID=America/New_York:20150531T100000
DTEND;TZID=America/New_York:20150531T113000
END:VEVENT
END:VCALENDAR
