BEGIN:VCALENDAR
PRODID:-//eluceo/ical//2.0/EN
VERSION:2.0
CALSCALE:GREGORIAN
BEGIN:VEVENT
UID:643aaca844f88e208027c16d88d573d0
DTSTAMP:20260422T031902Z
SUMMARY:Jewish Healthcare Center President Club Dinner
DESCRIPTION:Jewish Federation of Central Massachusetts\nCalendar\nhttps://j
 ewishcentralmass.org/calendar/cal162\n\nJewish Healthcare Center President
  Club Dinner
DTSTART;TZID=America/New_York:20150520T180000
DTEND;TZID=America/New_York:20150520T200000
END:VEVENT
END:VCALENDAR
