BEGIN:VCALENDAR
PRODID:-//eluceo/ical//2.0/EN
VERSION:2.0
CALSCALE:GREGORIAN
BEGIN:VEVENT
UID:42c2993a8f98a6dfc3ce96843a6c605c
DTSTAMP:20260423T163820Z
SUMMARY:Pardes School Committee Meeting
DESCRIPTION:Jewish Federation of Central Massachusetts\nCalendar\nhttps://j
 ewishcentralmass.org/calendar/cal161\n\nPardes School Committee Meeting
DTSTART;TZID=America/New_York:20150527T191500
DTEND;TZID=America/New_York:20150527T210000
END:VEVENT
END:VCALENDAR
