BEGIN:VCALENDAR
PRODID:-//eluceo/ical//2.0/EN
VERSION:2.0
CALSCALE:GREGORIAN
BEGIN:VEVENT
UID:1a421766476083c4dee1d9d1b1ed238d
DTSTAMP:20260423T111910Z
SUMMARY:Jewish Healthcare Center Auxillary Luncheon
DESCRIPTION:Jewish Federation of Central Massachusetts\nCalendar\nhttps://j
 ewishcentralmass.org/calendar/cal160\n\nJewish Healthcare Center Auxillary
  Luncheon
DTSTART;TZID=America/New_York:20150527T120000
DTEND;TZID=America/New_York:20150527T140000
END:VEVENT
END:VCALENDAR
