BEGIN:VCALENDAR
PRODID:-//eluceo/ical//2.0/EN
VERSION:2.0
CALSCALE:GREGORIAN
BEGIN:VEVENT
UID:ff32b8198e36e24d6fb28e9b6e1fcfbf
DTSTAMP:20260423T135703Z
SUMMARY:Jewish Community Center Senior Volunteer Luncheon
DESCRIPTION:Jewish Federation of Central Massachusetts\nCalendar\nhttps://j
 ewishcentralmass.org/calendar/cal158\n\nJewish Community Center Senior Vol
 unteer Luncheon
DTSTART;TZID=America/New_York:20150520T120000
DTEND;TZID=America/New_York:20150520T140000
END:VEVENT
END:VCALENDAR
