BEGIN:VCALENDAR
PRODID:-//eluceo/ical//2.0/EN
VERSION:2.0
CALSCALE:GREGORIAN
BEGIN:VEVENT
UID:8b1a28cf54d24dbb9211db95f6e4bdc0
DTSTAMP:20260422T110258Z
SUMMARY:Pardes Year End Celebration
DESCRIPTION:Jewish Federation of Central Massachusetts\nCalendar\nhttps://j
 ewishcentralmass.org/calendar/cal156\n\nPardes Year End Celebration
DTSTART;TZID=America/New_York:20150517T090000
DTEND;TZID=America/New_York:20150517T120000
END:VEVENT
END:VCALENDAR
