BEGIN:VCALENDAR
PRODID:-//eluceo/ical//2.0/EN
VERSION:2.0
CALSCALE:GREGORIAN
BEGIN:VEVENT
UID:a5425beeb4f9f85c264e4220b70bba78
DTSTAMP:20260422T115341Z
SUMMARY:Congregation Beth Israel Brotherhood Paid Up Dinner
DESCRIPTION:Jewish Federation of Central Massachusetts\nCalendar\nhttps://j
 ewishcentralmass.org/calendar/cal152\n\nCongregation Beth Israel Brotherho
 od Paid Up Dinner
DTSTART;TZID=America/New_York:20150514T173000
DTEND;TZID=America/New_York:20150514T190000
END:VEVENT
END:VCALENDAR
