BEGIN:VCALENDAR
PRODID:-//eluceo/ical//2.0/EN
VERSION:2.0
CALSCALE:GREGORIAN
BEGIN:VEVENT
UID:a8a4a795e1675bd2fd36d439c422c0a4
DTSTAMP:20260423T210140Z
SUMMARY:Pardes Last Day of School
DESCRIPTION:Jewish Federation of Central Massachusetts\nCalendar\nhttps://j
 ewishcentralmass.org/calendar/cal151\n\nPardes Last Day of School
DTSTART;TZID=America/New_York:20150513T160000
DTEND;TZID=America/New_York:20150513T180000
END:VEVENT
END:VCALENDAR
