BEGIN:VCALENDAR
PRODID:-//eluceo/ical//2.0/EN
VERSION:2.0
CALSCALE:GREGORIAN
BEGIN:VEVENT
UID:462bc0712c7708b0aa48f953fc78f211
DTSTAMP:20260423T030854Z
SUMMARY:Temple Emanuel Sinai Board Meeting
DESCRIPTION:Jewish Federation of Central Massachusetts\nCalendar\nhttps://j
 ewishcentralmass.org/calendar/cal150\n\nTemple Emanuel Sinai Board Meeting
DTSTART;TZID=America/New_York:20150511T193000
DTEND;TZID=America/New_York:20150511T210000
END:VEVENT
END:VCALENDAR
