BEGIN:VCALENDAR
PRODID:-//eluceo/ical//2.0/EN
VERSION:2.0
CALSCALE:GREGORIAN
BEGIN:VEVENT
UID:680cc96585c717ceab8e08fb5bcf5cbf
DTSTAMP:20260423T030924Z
SUMMARY:Congregation B'nai Shalom Board Meeting
DESCRIPTION:Jewish Federation of Central Massachusetts\nCalendar\nhttps://j
 ewishcentralmass.org/calendar/cal148\n\nCongregation B'nai Shalom Board Me
 eting
DTSTART;TZID=America/New_York:20150506T193000
DTEND;TZID=America/New_York:20150506T210000
END:VEVENT
END:VCALENDAR
