BEGIN:VCALENDAR
PRODID:-//eluceo/ical//2.0/EN
VERSION:2.0
CALSCALE:GREGORIAN
BEGIN:VEVENT
UID:0d5f70509421b933c47e335b9b198ae0
DTSTAMP:20260423T055039Z
SUMMARY:Jewish Federation of Central Mass Board Meeting
DESCRIPTION:Jewish Federation of Central Massachusetts\nCalendar\nhttps://j
 ewishcentralmass.org/calendar/cal147\n\nJewish Federation of Central Mass 
 Board Meeting
DTSTART;TZID=America/New_York:20150505T193000
DTEND;TZID=America/New_York:20150505T210000
END:VEVENT
END:VCALENDAR
