BEGIN:VCALENDAR
PRODID:-//eluceo/ical//2.0/EN
VERSION:2.0
CALSCALE:GREGORIAN
BEGIN:VEVENT
UID:ea2b1a219e69ab1b486c5be3778c47b8
DTSTAMP:20260421T212957Z
SUMMARY:Temple Emanuel Sinai Event
DESCRIPTION:Jewish Federation of Central Massachusetts\nCalendar\nhttps://j
 ewishcentralmass.org/calendar/cal145\n\nTemple Emanuel Sinai Event
DTSTART;TZID=America/New_York:20150503T090000
DTEND;TZID=America/New_York:20150503T170000
END:VEVENT
END:VCALENDAR
