BEGIN:VCALENDAR
PRODID:-//eluceo/ical//2.0/EN
VERSION:2.0
CALSCALE:GREGORIAN
BEGIN:VEVENT
UID:6d12c773815a2285ac67e996a64c0a84
DTSTAMP:20260423T095101Z
SUMMARY:Temple Emanuel Sinai Gala Event
DESCRIPTION:Jewish Federation of Central Massachusetts\nCalendar\nhttps://j
 ewishcentralmass.org/calendar/cal144\n\nTemple Emanuel Sinai Gala Event
DTSTART;TZID=America/New_York:20150502T190000
DTEND;TZID=America/New_York:20150502T220000
END:VEVENT
END:VCALENDAR
