BEGIN:VCALENDAR
PRODID:-//eluceo/ical//2.0/EN
VERSION:2.0
CALSCALE:GREGORIAN
BEGIN:VEVENT
UID:defae96de486b7ad599e44fcf49a1417
DTSTAMP:20260423T070017Z
SUMMARY:Congregation Beth Israel Board Meeting
DESCRIPTION:Jewish Federation of Central Massachusetts\nCalendar\nhttps://j
 ewishcentralmass.org/calendar/cal143\n\nCongregation Beth Israel Board Mee
 ting
DTSTART;TZID=America/New_York:20150430T193000
DTEND;TZID=America/New_York:20150430T210000
END:VEVENT
END:VCALENDAR
