BEGIN:VCALENDAR
PRODID:-//eluceo/ical//2.0/EN
VERSION:2.0
CALSCALE:GREGORIAN
BEGIN:VEVENT
UID:c8fc2f085843df062abbdecb4a9e9648
DTSTAMP:20260423T122845Z
SUMMARY:Community Wide Yom Ha'atzmaut Program
DESCRIPTION:Jewish Federation of Central Massachusetts\nCalendar\nhttps://j
 ewishcentralmass.org/calendar/cal142\n\nCommunity Wide Yom Ha'atzmaut Prog
 ram
DTSTART;TZID=America/New_York:20150426T140000
DTEND;TZID=America/New_York:20150426T160000
END:VEVENT
END:VCALENDAR
