BEGIN:VCALENDAR
PRODID:-//eluceo/ical//2.0/EN
VERSION:2.0
CALSCALE:GREGORIAN
BEGIN:VEVENT
UID:af5b7cf771d532936da333524e058e4b
DTSTAMP:20260422T005554Z
SUMMARY:Hadessah Donor Brunch
DESCRIPTION:Jewish Federation of Central Massachusetts\nCalendar\nhttps://j
 ewishcentralmass.org/calendar/cal141\n\nHadessah Donor Brunch
DTSTART;TZID=America/New_York:20150426T110000
DTEND;TZID=America/New_York:20150426T140000
END:VEVENT
END:VCALENDAR
