BEGIN:VCALENDAR
PRODID:-//eluceo/ical//2.0/EN
VERSION:2.0
CALSCALE:GREGORIAN
BEGIN:VEVENT
UID:be196c50b4479bb441f57d2c9e530cd3
DTSTAMP:20260422T032853Z
SUMMARY:Jewish War Veterans Breakfast
DESCRIPTION:Jewish Federation of Central Massachusetts\nCalendar\nhttps://j
 ewishcentralmass.org/calendar/cal140\n\nJewish War Veterans Breakfast
DTSTART;TZID=America/New_York:20150426T090000
DTEND;TZID=America/New_York:20150426T110000
END:VEVENT
END:VCALENDAR
