BEGIN:VCALENDAR
PRODID:-//eluceo/ical//2.0/EN
VERSION:2.0
CALSCALE:GREGORIAN
BEGIN:VEVENT
UID:ce1d4e2ed567156715d9adf15e2d4800
DTSTAMP:20260422T220430Z
SUMMARY:Congregation Beth Israel Board Meeting
DESCRIPTION:Jewish Federation of Central Massachusetts\nCalendar\nhttps://j
 ewishcentralmass.org/calendar/cal14\n\nCongregation Beth Israel Board Meet
 ing
DTSTART;TZID=America/New_York:20140918T193000
DTEND;TZID=America/New_York:20140918T210000
END:VEVENT
END:VCALENDAR
