BEGIN:VCALENDAR
PRODID:-//eluceo/ical//2.0/EN
VERSION:2.0
CALSCALE:GREGORIAN
BEGIN:VEVENT
UID:cc4ba6017b45018755e833a9ba61520d
DTSTAMP:20260424T054512Z
SUMMARY:Temple Emanuel Sinai Brotherhood Breakfast
DESCRIPTION:Jewish Federation of Central Massachusetts\nCalendar\nhttps://j
 ewishcentralmass.org/calendar/cal139\n\nTemple Emanuel Sinai Brotherhood B
 reakfast
DTSTART;TZID=America/New_York:20150419T093000
DTEND;TZID=America/New_York:20150419T110000
END:VEVENT
END:VCALENDAR
