BEGIN:VCALENDAR
PRODID:-//eluceo/ical//2.0/EN
VERSION:2.0
CALSCALE:GREGORIAN
BEGIN:VEVENT
UID:105aec23ad2c78e7aae2f8638e400b0d
DTSTAMP:20260422T051205Z
SUMMARY:Temple Emanuel Sinai Board Meeting
DESCRIPTION:Jewish Federation of Central Massachusetts\nCalendar\nhttps://j
 ewishcentralmass.org/calendar/cal137\n\nTemple Emanuel Sinai Board Meeting
DTSTART;TZID=America/New_York:20150413T193000
DTEND;TZID=America/New_York:20150413T210000
END:VEVENT
END:VCALENDAR
