BEGIN:VCALENDAR
PRODID:-//eluceo/ical//2.0/EN
VERSION:2.0
CALSCALE:GREGORIAN
BEGIN:VEVENT
UID:5281a88274ec0a42d723f5314070bd2b
DTSTAMP:20260423T074038Z
SUMMARY:Pardes Spring Festival
DESCRIPTION:Jewish Federation of Central Massachusetts\nCalendar\nhttps://j
 ewishcentralmass.org/calendar/cal135\n\nPardes Spring Festival
DTSTART;TZID=America/New_York:20150412T090000
DTEND;TZID=America/New_York:20150412T120000
END:VEVENT
END:VCALENDAR
